Package: maSigPro
Version: 1.78.0
Command: /home/biocbuild/bbs-3.20-bioc/R/bin/R CMD build --keep-empty-dirs --no-resave-data maSigPro
StartedAt: 2024-11-19 19:51:03 -0500 (Tue, 19 Nov 2024)
EndedAt: 2024-11-19 19:51:13 -0500 (Tue, 19 Nov 2024)
EllapsedTime: 10.0 seconds
RetCode: 0
Status: OK
PackageFile: maSigPro_1.78.0.tar.gz
PackageFileSize: 1.511 <A href="http://en.wikipedia.org/wiki/MiB" target="_blank">MiB</A>