Package: made4 Version: 1.80.0 Command: rm -rf made4.buildbin-libdir && mkdir made4.buildbin-libdir && /Users/biocbuild/BBS/utils/build-universal.sh made4_1.80.0.tar.gz /Library/Frameworks/R.framework/Resources/bin/R made4.buildbin-libdir StartedAt: 2025-02-04 13:18:45 -0500 (Tue, 04 Feb 2025) EndedAt: 2025-02-04 13:20:09 -0500 (Tue, 04 Feb 2025) EllapsedTime: 84.3 seconds RetCode: 0 Status: OK PackageFile: made4_1.80.0.tgz PackageFileSize: 2.266 MiB