Package: made4 Version: 1.80.0 Command: /Library/Frameworks/R.framework/Resources/bin/R CMD build --keep-empty-dirs --no-resave-data made4 StartedAt: 2025-02-03 19:59:15 -0500 (Mon, 03 Feb 2025) EndedAt: 2025-02-03 20:00:41 -0500 (Mon, 03 Feb 2025) EllapsedTime: 85.8 seconds RetCode: 0 Status: OK PackageFile: made4_1.80.0.tar.gz PackageFileSize: 2.508 MiB