Package: made4 Version: 1.80.0 Command: /Library/Frameworks/R.framework/Resources/bin/R CMD check --install=check:made4.install-out.txt --library=/Library/Frameworks/R.framework/Resources/library --no-vignettes --timings made4_1.80.0.tar.gz StartedAt: 2025-02-04 05:44:51 -0500 (Tue, 04 Feb 2025) EndedAt: 2025-02-04 05:50:19 -0500 (Tue, 04 Feb 2025) EllapsedTime: 328.1 seconds RetCode: 0 Status: OK CheckDir: made4.Rcheck Warnings: 0