Package: made4 Version: 1.80.0 Command: /Library/Frameworks/R.framework/Resources/bin/R CMD INSTALL made4 StartedAt: 2025-02-03 15:24:36 -0500 (Mon, 03 Feb 2025) EndedAt: 2025-02-03 15:25:26 -0500 (Mon, 03 Feb 2025) EllapsedTime: 49.6 seconds RetCode: 0 Status: OK