Package: made4 Version: 1.80.0 Command: /home/biocbuild/bbs-3.20-bioc/R/bin/R CMD check --install=check:made4.install-out.txt --library=/home/biocbuild/bbs-3.20-bioc/R/site-library --timings made4_1.80.0.tar.gz StartedAt: 2025-02-03 23:43:02 -0500 (Mon, 03 Feb 2025) EndedAt: 2025-02-03 23:45:41 -0500 (Mon, 03 Feb 2025) EllapsedTime: 158.2 seconds RetCode: 0 Status: OK CheckDir: made4.Rcheck Warnings: 0