Package: made4
Version: 1.80.0
Command: F:\biocbuild\bbs-3.20-bioc\R\bin\R.exe CMD INSTALL made4
StartedAt: 2025-02-17 15:46:29 -0500 (Mon, 17 Feb 2025)
EndedAt: 2025-02-17 15:47:01 -0500 (Mon, 17 Feb 2025)
EllapsedTime: 32.6 seconds
RetCode: 0
Status: OK