Package: maftools Version: 2.22.0 Command: /Library/Frameworks/R.framework/Resources/bin/R CMD INSTALL maftools StartedAt: 2025-01-30 17:22:47 -0500 (Thu, 30 Jan 2025) EndedAt: 2025-01-30 17:23:07 -0500 (Thu, 30 Jan 2025) EllapsedTime: 20.0 seconds RetCode: 0 Status: OK