Package: maftools Version: 2.22.0 Command: /Library/Frameworks/R.framework/Resources/bin/R CMD build --keep-empty-dirs --no-resave-data maftools StartedAt: 2025-01-30 20:17:17 -0500 (Thu, 30 Jan 2025) EndedAt: 2025-01-30 20:26:15 -0500 (Thu, 30 Jan 2025) EllapsedTime: 538.4 seconds RetCode: 0 Status: OK PackageFile: maftools_2.22.0.tar.gz PackageFileSize: 12.33 MiB