Package: maftools Version: 2.22.0 Command: /Library/Frameworks/R.framework/Resources/bin/R CMD check --install=check:maftools.install-out.txt --library=/Library/Frameworks/R.framework/Resources/library --no-vignettes --timings maftools_2.22.0.tar.gz StartedAt: 2025-01-31 05:53:53 -0500 (Fri, 31 Jan 2025) EndedAt: 2025-01-31 05:58:59 -0500 (Fri, 31 Jan 2025) EllapsedTime: 306.0 seconds RetCode: 0 Status: OK CheckDir: maftools.Rcheck Warnings: 0