Package: maftools Version: 2.22.0 Command: /Library/Frameworks/R.framework/Resources/bin/R CMD INSTALL maftools StartedAt: 2025-01-30 16:18:36 -0500 (Thu, 30 Jan 2025) EndedAt: 2025-01-30 16:19:25 -0500 (Thu, 30 Jan 2025) EllapsedTime: 49.2 seconds RetCode: 0 Status: OK