Package: maftools Version: 2.22.0 Command: /home/biocbuild/bbs-3.20-bioc/R/bin/R CMD INSTALL maftools StartedAt: 2025-01-30 15:45:35 -0500 (Thu, 30 Jan 2025) EndedAt: 2025-01-30 15:45:51 -0500 (Thu, 30 Jan 2025) EllapsedTime: 16.0 seconds RetCode: 0 Status: OK