Package: maftools Version: 2.22.0 Command: rm -rf maftools.buildbin-libdir && mkdir maftools.buildbin-libdir && F:\biocbuild\bbs-3.20-bioc\R\bin\R.exe CMD INSTALL --build --library=maftools.buildbin-libdir maftools_2.22.0.tar.gz StartedAt: 2025-01-31 08:58:00 -0500 (Fri, 31 Jan 2025) EndedAt: 2025-01-31 08:59:36 -0500 (Fri, 31 Jan 2025) EllapsedTime: 96.3 seconds RetCode: 0 Status: OK PackageFile: maftools_2.22.0.zip PackageFileSize: 13.91 MiB