Package: maftools Version: 2.22.0 Command: /home/biocbuild/R/R/bin/R CMD build --keep-empty-dirs --no-resave-data maftools StartedAt: 2025-01-31 00:36:33 -0000 (Fri, 31 Jan 2025) EndedAt: 2025-01-31 00:40:55 -0000 (Fri, 31 Jan 2025) EllapsedTime: 262.1 seconds RetCode: 0 Status: OK PackageFile: maftools_2.22.0.tar.gz PackageFileSize: 9.571 MiB