Package: maftools Version: 2.22.0 Command: /home/biocbuild/R/R/bin/R CMD check --install=check:maftools.install-out.txt --library=/home/biocbuild/R/R/site-library --no-vignettes --timings maftools_2.22.0.tar.gz StartedAt: 2025-01-31 07:42:03 -0000 (Fri, 31 Jan 2025) EndedAt: 2025-01-31 07:44:37 -0000 (Fri, 31 Jan 2025) EllapsedTime: 153.2 seconds RetCode: 0 Status: WARNINGS CheckDir: maftools.Rcheck Warnings: 1