Package: maftools Version: 2.22.0 Command: /home/biocbuild/bbs-3.20-bioc/R/bin/R CMD build --keep-empty-dirs --no-resave-data maftools StartedAt: 2024-11-19 19:48:22 -0500 (Tue, 19 Nov 2024) EndedAt: 2024-11-19 19:51:25 -0500 (Tue, 19 Nov 2024) EllapsedTime: 183.3 seconds RetCode: 0 Status: OK PackageFile: maftools_2.22.0.tar.gz PackageFileSize: 11.89 MiB