Package: magpie Version: 1.6.0 Command: /Library/Frameworks/R.framework/Resources/bin/R CMD build --keep-empty-dirs --no-resave-data magpie StartedAt: 2025-02-04 02:28:59 -0500 (Tue, 04 Feb 2025) EndedAt: 2025-02-04 02:30:15 -0500 (Tue, 04 Feb 2025) EllapsedTime: 76.1 seconds RetCode: 0 Status: OK PackageFile: magpie_1.6.0.tar.gz PackageFileSize: 2.289 MiB