Package: magpie Version: 1.6.0 Command: /Library/Frameworks/R.framework/Resources/bin/R CMD build --keep-empty-dirs --no-resave-data magpie StartedAt: 2025-02-03 20:00:01 -0500 (Mon, 03 Feb 2025) EndedAt: 2025-02-03 20:02:06 -0500 (Mon, 03 Feb 2025) EllapsedTime: 124.8 seconds RetCode: 0 Status: OK PackageFile: magpie_1.6.0.tar.gz PackageFileSize: 2.289 MiB