Package: magpie Version: 1.6.0 Command: /home/biocbuild/bbs-3.20-bioc/R/bin/R CMD check --install=check:magpie.install-out.txt --library=/home/biocbuild/bbs-3.20-bioc/R/site-library --timings magpie_1.6.0.tar.gz StartedAt: 2025-02-03 23:43:52 -0500 (Mon, 03 Feb 2025) EndedAt: 2025-02-03 23:48:19 -0500 (Mon, 03 Feb 2025) EllapsedTime: 267.3 seconds RetCode: 0 Status: WARNINGS CheckDir: magpie.Rcheck Warnings: 1