Package: magpie Version: 1.6.0 Command: rm -rf magpie.buildbin-libdir && mkdir magpie.buildbin-libdir && F:\biocbuild\bbs-3.20-bioc\R\bin\R.exe CMD INSTALL --build --library=magpie.buildbin-libdir magpie_1.6.0.tar.gz StartedAt: 2025-02-04 08:50:06 -0500 (Tue, 04 Feb 2025) EndedAt: 2025-02-04 08:51:01 -0500 (Tue, 04 Feb 2025) EllapsedTime: 55.0 seconds RetCode: 0 Status: OK PackageFile: magpie_1.6.0.zip PackageFileSize: 1.364 MiB