Package: magrene Version: 1.8.0 Command: /Library/Frameworks/R.framework/Resources/bin/R CMD build --keep-empty-dirs --no-resave-data magrene StartedAt: 2025-02-04 02:29:14 -0500 (Tue, 04 Feb 2025) EndedAt: 2025-02-04 02:30:06 -0500 (Tue, 04 Feb 2025) EllapsedTime: 52.1 seconds RetCode: 0 Status: OK PackageFile: magrene_1.8.0.tar.gz PackageFileSize: 2.256 MiB