Package: magrene Version: 1.8.0 Command: /Library/Frameworks/R.framework/Resources/bin/R CMD check --install=check:magrene.install-out.txt --library=/Library/Frameworks/R.framework/Resources/library --no-vignettes --timings magrene_1.8.0.tar.gz StartedAt: 2025-02-05 00:27:04 -0500 (Wed, 05 Feb 2025) EndedAt: 2025-02-05 00:28:15 -0500 (Wed, 05 Feb 2025) EllapsedTime: 70.3 seconds RetCode: 0 Status: OK CheckDir: magrene.Rcheck Warnings: 0