Package: magrene Version: 1.8.0 Command: /Library/Frameworks/R.framework/Resources/bin/R CMD INSTALL magrene StartedAt: 2025-02-03 15:50:42 -0500 (Mon, 03 Feb 2025) EndedAt: 2025-02-03 15:50:45 -0500 (Mon, 03 Feb 2025) EllapsedTime: 3.5 seconds RetCode: 0 Status: OK