Package: magrene Version: 1.8.0 Command: rm -rf magrene.buildbin-libdir && mkdir magrene.buildbin-libdir && /Users/biocbuild/BBS/utils/build-universal.sh magrene_1.8.0.tar.gz /Library/Frameworks/R.framework/Resources/bin/R magrene.buildbin-libdir StartedAt: 2025-01-31 13:05:20 -0500 (Fri, 31 Jan 2025) EndedAt: 2025-01-31 13:05:26 -0500 (Fri, 31 Jan 2025) EllapsedTime: 6.4 seconds RetCode: 0 Status: OK PackageFile: magrene_1.8.0.tgz PackageFileSize: 2.188 MiB