Package: magrene Version: 1.8.0 Command: /Library/Frameworks/R.framework/Resources/bin/R CMD INSTALL magrene StartedAt: 2025-01-30 15:30:34 -0500 (Thu, 30 Jan 2025) EndedAt: 2025-01-30 15:30:40 -0500 (Thu, 30 Jan 2025) EllapsedTime: 6.3 seconds RetCode: 0 Status: OK