Package: magrene Version: 1.8.0 Command: /home/biocbuild/bbs-3.20-bioc/R/bin/R CMD build --keep-empty-dirs --no-resave-data --md5 magrene StartedAt: 2025-02-10 17:54:31 -0500 (Mon, 10 Feb 2025) EndedAt: 2025-02-10 17:55:08 -0500 (Mon, 10 Feb 2025) EllapsedTime: 37.0 seconds RetCode: 0 Status: OK PackageFile: magrene_1.8.0.tar.gz PackageFileSize: 2.257 MiB