Package: magrene Version: 1.8.0 Command: F:\biocbuild\bbs-3.20-bioc\R\bin\R.exe CMD check --no-multiarch --install=check:magrene.install-out.txt --library=F:\biocbuild\bbs-3.20-bioc\R\library --no-vignettes --timings magrene_1.8.0.tar.gz StartedAt: 2025-01-31 03:29:56 -0500 (Fri, 31 Jan 2025) EndedAt: 2025-01-31 03:31:13 -0500 (Fri, 31 Jan 2025) EllapsedTime: 77.1 seconds RetCode: 0 Status: OK CheckDir: magrene.Rcheck Warnings: 0