Package: magrene Version: 1.8.0 Command: F:\biocbuild\bbs-3.20-bioc\R\bin\R.exe CMD INSTALL magrene StartedAt: 2025-01-30 15:40:05 -0500 (Thu, 30 Jan 2025) EndedAt: 2025-01-30 15:40:15 -0500 (Thu, 30 Jan 2025) EllapsedTime: 9.6 seconds RetCode: 0 Status: OK