Package: magrene Version: 1.8.0 Command: /home/biocbuild/R/R/bin/R CMD build --keep-empty-dirs --no-resave-data magrene StartedAt: 2025-02-04 00:37:22 -0000 (Tue, 04 Feb 2025) EndedAt: 2025-02-04 00:38:15 -0000 (Tue, 04 Feb 2025) EllapsedTime: 53.0 seconds RetCode: 0 Status: OK PackageFile: magrene_1.8.0.tar.gz PackageFileSize: 2.28 MiB