Package: magrene Version: 1.8.0 Command: /home/biocbuild/R/R/bin/R CMD INSTALL magrene StartedAt: 2025-01-30 20:21:45 -0000 (Thu, 30 Jan 2025) EndedAt: 2025-01-30 20:21:48 -0000 (Thu, 30 Jan 2025) EllapsedTime: 3.0 seconds RetCode: 0 Status: OK