Package: makecdfenv Version: 1.82.0 Command: /Library/Frameworks/R.framework/Resources/bin/R CMD build --keep-empty-dirs --no-resave-data makecdfenv StartedAt: 2025-02-04 02:30:24 -0500 (Tue, 04 Feb 2025) EndedAt: 2025-02-04 02:30:45 -0500 (Tue, 04 Feb 2025) EllapsedTime: 20.2 seconds RetCode: 0 Status: OK PackageFile: makecdfenv_1.82.0.tar.gz PackageFileSize: 3.258 MiB