Package: makecdfenv Version: 1.82.0 Command: /Library/Frameworks/R.framework/Resources/bin/R CMD build --keep-empty-dirs --no-resave-data makecdfenv StartedAt: 2025-02-17 20:04:35 -0500 (Mon, 17 Feb 2025) EndedAt: 2025-02-17 20:05:07 -0500 (Mon, 17 Feb 2025) EllapsedTime: 31.7 seconds RetCode: 0 Status: OK PackageFile: makecdfenv_1.82.0.tar.gz PackageFileSize: 3.258 <A href="http://en.wikipedia.org/wiki/MiB" target="_blank">MiB</A>