Package: makecdfenv
Version: 1.81.0
Command: chmod a+r makecdfenv -R && F:\biocbuild\bbs-3.20-bioc\R\bin\R.exe CMD build --keep-empty-dirs --no-resave-data makecdfenv
StartedAt: 2024-06-09 19:57:32 -0400 (Sun, 09 Jun 2024)
EndedAt: 2024-06-09 19:58:17 -0400 (Sun, 09 Jun 2024)
EllapsedTime: 44.4 seconds
RetCode: 0
Status: OK
PackageFile: makecdfenv_1.81.0.tar.gz
PackageFileSize: 3.13 <A href="http://en.wikipedia.org/wiki/MiB" target="_blank">MiB</A>