Package: mapscape Version: 1.30.0 Command: rm -rf mapscape.buildbin-libdir && mkdir mapscape.buildbin-libdir && /Users/biocbuild/BBS/utils/build-universal.sh mapscape_1.30.0.tar.gz /Library/Frameworks/R.framework/Resources/bin/R mapscape.buildbin-libdir StartedAt: 2025-02-05 16:28:57 -0500 (Wed, 05 Feb 2025) EndedAt: 2025-02-05 16:29:03 -0500 (Wed, 05 Feb 2025) EllapsedTime: 5.8 seconds RetCode: 0 Status: OK PackageFile: mapscape_1.30.0.tgz PackageFileSize: 4.136 MiB