Package: mapscape Version: 1.30.0 Command: /Library/Frameworks/R.framework/Resources/bin/R CMD check --install=check:mapscape.install-out.txt --library=/Library/Frameworks/R.framework/Resources/library --no-vignettes --timings mapscape_1.30.0.tar.gz StartedAt: 2025-02-04 05:47:48 -0500 (Tue, 04 Feb 2025) EndedAt: 2025-02-04 05:48:36 -0500 (Tue, 04 Feb 2025) EllapsedTime: 47.8 seconds RetCode: 0 Status: WARNINGS CheckDir: mapscape.Rcheck Warnings: 1