Package: mapscape Version: 1.30.0 Command: /home/biocbuild/R/R/bin/R CMD build --keep-empty-dirs --no-resave-data mapscape StartedAt: 2025-02-04 00:38:36 -0000 (Tue, 04 Feb 2025) EndedAt: 2025-02-04 00:38:46 -0000 (Tue, 04 Feb 2025) EllapsedTime: 10.0 seconds RetCode: 0 Status: OK PackageFile: mapscape_1.30.0.tar.gz PackageFileSize: 4.915 MiB