Package: mapscape Version: 1.30.0 Command: /home/biocbuild/R/R/bin/R CMD INSTALL mapscape StartedAt: 2025-02-03 20:52:49 -0000 (Mon, 03 Feb 2025) EndedAt: 2025-02-03 20:52:52 -0000 (Mon, 03 Feb 2025) EllapsedTime: 3.0 seconds RetCode: 0 Status: OK