Package: marr
Version: 1.15.0
Command: C:\Users\biocbuild\bbs-3.20-bioc\R\bin\R.exe CMD check --no-multiarch --install=check:marr.install-out.txt --library=C:\Users\biocbuild\bbs-3.20-bioc\R\library --no-vignettes --timings marr_1.15.0.tar.gz
StartedAt: 2024-07-16 01:22:33 -0400 (Tue, 16 Jul 2024)
EndedAt: 2024-07-16 01:26:05 -0400 (Tue, 16 Jul 2024)
EllapsedTime: 211.7 seconds
RetCode: 0
Status: OK
CheckDir: marr.Rcheck
Warnings: 0