Package: marr Version: 1.16.0 Command: F:\biocbuild\bbs-3.20-bioc\R\bin\R.exe CMD INSTALL marr StartedAt: 2025-02-13 15:48:03 -0500 (Thu, 13 Feb 2025) EndedAt: 2025-02-13 15:48:47 -0500 (Thu, 13 Feb 2025) EllapsedTime: 43.4 seconds RetCode: 0 Status: OK