Package: marray Version: 1.84.0 Command: /Library/Frameworks/R.framework/Resources/bin/R CMD check --install=check:marray.install-out.txt --library=/Library/Frameworks/R.framework/Resources/library --no-vignettes --timings marray_1.84.0.tar.gz StartedAt: 2025-02-05 00:34:34 -0500 (Wed, 05 Feb 2025) EndedAt: 2025-02-05 00:35:37 -0500 (Wed, 05 Feb 2025) EllapsedTime: 62.6 seconds RetCode: 0 Status: OK CheckDir: marray.Rcheck Warnings: 0