Package: marray Version: 1.84.0 Command: /home/biocbuild/bbs-3.20-bioc/R/bin/R CMD check --install=check:marray.install-out.txt --library=/home/biocbuild/bbs-3.20-bioc/R/site-library --timings marray_1.84.0.tar.gz StartedAt: 2025-02-03 23:45:47 -0500 (Mon, 03 Feb 2025) EndedAt: 2025-02-03 23:47:02 -0500 (Mon, 03 Feb 2025) EllapsedTime: 75.1 seconds RetCode: 0 Status: OK CheckDir: marray.Rcheck Warnings: 0