Package: marray Version: 1.84.0 Command: /home/biocbuild/R/R/bin/R CMD build --keep-empty-dirs --no-resave-data marray StartedAt: 2025-02-04 00:38:48 -0000 (Tue, 04 Feb 2025) EndedAt: 2025-02-04 00:39:30 -0000 (Tue, 04 Feb 2025) EllapsedTime: 42.0 seconds RetCode: 0 Status: OK PackageFile: marray_1.84.0.tar.gz PackageFileSize: 5.581 MiB