Package: martini Version: 1.26.0 Command: /Library/Frameworks/R.framework/Resources/bin/R CMD INSTALL martini StartedAt: 2025-02-03 17:29:37 -0500 (Mon, 03 Feb 2025) EndedAt: 2025-02-03 17:29:59 -0500 (Mon, 03 Feb 2025) EllapsedTime: 22.0 seconds RetCode: 0 Status: OK