Package: martini Version: 1.26.0 Command: /Library/Frameworks/R.framework/Resources/bin/R CMD check --install=check:martini.install-out.txt --library=/Library/Frameworks/R.framework/Resources/library --no-vignettes --timings martini_1.26.0.tar.gz StartedAt: 2025-01-31 05:57:11 -0500 (Fri, 31 Jan 2025) EndedAt: 2025-01-31 06:02:16 -0500 (Fri, 31 Jan 2025) EllapsedTime: 304.8 seconds RetCode: 0 Status: OK CheckDir: martini.Rcheck Warnings: 0