Package: martini Version: 1.26.0 Command: rm -rf martini.buildbin-libdir && mkdir martini.buildbin-libdir && F:\biocbuild\bbs-3.20-bioc\R\bin\R.exe CMD INSTALL --build --library=martini.buildbin-libdir martini_1.26.0.tar.gz StartedAt: 2025-01-31 08:58:42 -0500 (Fri, 31 Jan 2025) EndedAt: 2025-01-31 08:59:35 -0500 (Fri, 31 Jan 2025) EllapsedTime: 52.9 seconds RetCode: 0 Status: OK PackageFile: martini_1.26.0.zip PackageFileSize: 847.8 KiB