Package: martini Version: 1.26.0 Command: chmod a+r martini -R && F:\biocbuild\bbs-3.20-bioc\R\bin\R.exe CMD build --keep-empty-dirs --no-resave-data martini StartedAt: 2025-01-30 19:53:21 -0500 (Thu, 30 Jan 2025) EndedAt: 2025-01-30 19:54:13 -0500 (Thu, 30 Jan 2025) EllapsedTime: 52.0 seconds RetCode: 0 Status: OK PackageFile: martini_1.26.0.tar.gz PackageFileSize: 2.89 MiB