Package: martini Version: 1.26.0 Command: F:\biocbuild\bbs-3.20-bioc\R\bin\R.exe CMD INSTALL martini StartedAt: 2025-01-30 16:38:41 -0500 (Thu, 30 Jan 2025) EndedAt: 2025-01-30 16:39:24 -0500 (Thu, 30 Jan 2025) EllapsedTime: 43.0 seconds RetCode: 0 Status: OK