Package: martini Version: 1.26.0 Command: /home/biocbuild/R/R/bin/R CMD build --keep-empty-dirs --no-resave-data martini StartedAt: 2025-02-04 00:39:30 -0000 (Tue, 04 Feb 2025) EndedAt: 2025-02-04 00:40:03 -0000 (Tue, 04 Feb 2025) EllapsedTime: 33.0 seconds RetCode: 0 Status: OK PackageFile: martini_1.26.0.tar.gz PackageFileSize: 2.92 MiB