Package: martini Version: 1.26.0 Command: /home/biocbuild/R/R/bin/R CMD check --install=check:martini.install-out.txt --library=/home/biocbuild/R/R/site-library --no-vignettes --timings martini_1.26.0.tar.gz StartedAt: 2025-02-04 08:25:56 -0000 (Tue, 04 Feb 2025) EndedAt: 2025-02-04 08:29:48 -0000 (Tue, 04 Feb 2025) EllapsedTime: 232.3 seconds RetCode: 1 Status: ERROR CheckDir: martini.Rcheck Warnings: NA