Package: maser Version: 1.24.0 Command: /Library/Frameworks/R.framework/Resources/bin/R CMD build --keep-empty-dirs --no-resave-data maser StartedAt: 2025-02-04 02:33:56 -0500 (Tue, 04 Feb 2025) EndedAt: 2025-02-04 02:36:56 -0500 (Tue, 04 Feb 2025) EllapsedTime: 180.1 seconds RetCode: 0 Status: OK PackageFile: maser_1.24.0.tar.gz PackageFileSize: 3.017 MiB